BEGIN:VCALENDAR
VERSION:2.0
PRODID:-//Backofenverein Reichenschwand - ECPv6.15.20//NONSGML v1.0//EN
CALSCALE:GREGORIAN
METHOD:PUBLISH
X-WR-CALNAME:Backofenverein Reichenschwand
X-ORIGINAL-URL:https://backofenverein-reichenschwand.de
X-WR-CALDESC:Veranstaltungen für Backofenverein Reichenschwand
REFRESH-INTERVAL;VALUE=DURATION:PT1H
X-Robots-Tag:noindex
X-PUBLISHED-TTL:PT1H
BEGIN:VTIMEZONE
TZID:Europe/Berlin
BEGIN:DAYLIGHT
TZOFFSETFROM:+0100
TZOFFSETTO:+0200
TZNAME:CEST
DTSTART:20250330T010000
END:DAYLIGHT
BEGIN:STANDARD
TZOFFSETFROM:+0200
TZOFFSETTO:+0100
TZNAME:CET
DTSTART:20251026T010000
END:STANDARD
BEGIN:DAYLIGHT
TZOFFSETFROM:+0100
TZOFFSETTO:+0200
TZNAME:CEST
DTSTART:20260329T010000
END:DAYLIGHT
BEGIN:STANDARD
TZOFFSETFROM:+0200
TZOFFSETTO:+0100
TZNAME:CET
DTSTART:20261025T010000
END:STANDARD
BEGIN:DAYLIGHT
TZOFFSETFROM:+0100
TZOFFSETTO:+0200
TZNAME:CEST
DTSTART:20270328T010000
END:DAYLIGHT
BEGIN:STANDARD
TZOFFSETFROM:+0200
TZOFFSETTO:+0100
TZNAME:CET
DTSTART:20271031T010000
END:STANDARD
END:VTIMEZONE
BEGIN:VEVENT
DTSTART;TZID=Europe/Berlin:20260516T080000
DTEND;TZID=Europe/Berlin:20260516T133000
DTSTAMP:20260424T173254
CREATED:20260117T090746Z
LAST-MODIFIED:20260117T090746Z
UID:531-1778918400-1778938200@backofenverein-reichenschwand.de
SUMMARY:2. Backtag 2026
DESCRIPTION:Möchten Sie mehr über uns erfahren? \nDann kommen Sie doch an einem unserer Backtage vorbei und schauen uns gern über die Schulter. \nInformationen zur Bestellung finden Sie hier: https://backofenverein-reichenschwand.de/bestellung/
URL:https://backofenverein-reichenschwand.de/termin/2-backtag-2026/
LOCATION:Backofen Reichenschwand\, Kirchstraße\, Reichenschwand\, Bayern\, 91244\, Deutschland
END:VEVENT
BEGIN:VEVENT
DTSTART;TZID=Europe/Berlin:20260620T080000
DTEND;TZID=Europe/Berlin:20260620T133000
DTSTAMP:20260424T173254
CREATED:20260117T090814Z
LAST-MODIFIED:20260117T090814Z
UID:533-1781942400-1781962200@backofenverein-reichenschwand.de
SUMMARY:3. Backtag 2026
DESCRIPTION:Möchten Sie mehr über uns erfahren? \nDann kommen Sie doch an einem unserer Backtage vorbei und schauen uns gern über die Schulter. \nInformationen zur Bestellung finden Sie hier: https://backofenverein-reichenschwand.de/bestellung/
URL:https://backofenverein-reichenschwand.de/termin/3-backtag-2026/
LOCATION:Backofen Reichenschwand\, Kirchstraße\, Reichenschwand\, Bayern\, 91244\, Deutschland
END:VEVENT
BEGIN:VEVENT
DTSTART;TZID=Europe/Berlin:20260718T080000
DTEND;TZID=Europe/Berlin:20260718T133000
DTSTAMP:20260424T173254
CREATED:20260117T090838Z
LAST-MODIFIED:20260117T090838Z
UID:535-1784361600-1784381400@backofenverein-reichenschwand.de
SUMMARY:4. Backtag 2026
DESCRIPTION:Möchten Sie mehr über uns erfahren? \nDann kommen Sie doch an einem unserer Backtage vorbei und schauen uns gern über die Schulter. \nInformationen zur Bestellung finden Sie hier: https://backofenverein-reichenschwand.de/bestellung/
URL:https://backofenverein-reichenschwand.de/termin/4-backtag-2026/
LOCATION:Backofen Reichenschwand\, Kirchstraße\, Reichenschwand\, Bayern\, 91244\, Deutschland
END:VEVENT
BEGIN:VEVENT
DTSTART;VALUE=DATE:20260926
DTEND;VALUE=DATE:20260927
DTSTAMP:20260424T173254
CREATED:20260117T090931Z
LAST-MODIFIED:20260117T090931Z
UID:537-1790380800-1790467199@backofenverein-reichenschwand.de
SUMMARY:5. Backtag 2026 mit Fest zum Jubiläum
DESCRIPTION:Möchten Sie mehr über uns erfahren? \nDann kommen Sie doch an einem unserer Backtage vorbei und schauen uns gern über die Schulter. \nInformationen zur Bestellung finden Sie hier: https://backofenverein-reichenschwand.de/bestellung/
URL:https://backofenverein-reichenschwand.de/termin/5-backtag-2026-mit-fest-zum-jubilaeum/
LOCATION:Backofen Reichenschwand\, Kirchstraße\, Reichenschwand\, Bayern\, 91244\, Deutschland
END:VEVENT
BEGIN:VEVENT
DTSTART;VALUE=DATE:20261017
DTEND;VALUE=DATE:20261018
DTSTAMP:20260424T173254
CREATED:20260117T091056Z
LAST-MODIFIED:20260117T091056Z
UID:541-1792195200-1792281599@backofenverein-reichenschwand.de
SUMMARY:Tagesfahrt in die Frankenwein-Region
DESCRIPTION:
URL:https://backofenverein-reichenschwand.de/termin/tagesfahrt-in-die-frankenwein-region/
END:VEVENT
BEGIN:VEVENT
DTSTART;TZID=Europe/Berlin:20261024T080000
DTEND;TZID=Europe/Berlin:20261024T133000
DTSTAMP:20260424T173254
CREATED:20260117T091013Z
LAST-MODIFIED:20260117T091013Z
UID:539-1792828800-1792848600@backofenverein-reichenschwand.de
SUMMARY:6. Backtag 2026 (ohne Abschlussessen)
DESCRIPTION:Möchten Sie mehr über uns erfahren? \nDann kommen Sie doch an einem unserer Backtage vorbei und schauen uns gern über die Schulter. \nInformationen zur Bestellung finden Sie hier: https://backofenverein-reichenschwand.de/bestellung/
URL:https://backofenverein-reichenschwand.de/termin/6-backtag-2026-ohne-abschlussessen/
LOCATION:Backofen Reichenschwand\, Kirchstraße\, Reichenschwand\, Bayern\, 91244\, Deutschland
END:VEVENT
BEGIN:VEVENT
DTSTART;TZID=Europe/Berlin:20261212T180000
DTEND;TZID=Europe/Berlin:20261212T210000
DTSTAMP:20260424T173254
CREATED:20260117T091221Z
LAST-MODIFIED:20260117T091439Z
UID:543-1797098400-1797109200@backofenverein-reichenschwand.de
SUMMARY:Adventsfenster 2026
DESCRIPTION:zusammen mit Posauenchor
URL:https://backofenverein-reichenschwand.de/termin/adventsfenster-2026/
LOCATION:Innenhof Evangelische Kirche und Backofen am Gemeindehaus nebenan
END:VEVENT
END:VCALENDAR